BEGIN:VCALENDAR
METHOD:PUBLISH
PRODID:-//3785@www.region-coburg.tv//NONSGML iCalcreator 2.4.3//
VERSION:2.0
BEGIN:VEVENT
UID:3785-20160907201500-20160907000000@www.region-coburg.tv
DTSTAMP:20260421T024711Z
CONTACT:09561 / 239051
CREATED:20160802T203000Z
DESCRIPTION:DokumentarfilmDas Reich des Sports präsentiert sich gerne im Z
 auberglanz großer Gefühle – aber ist das Sportgeschäft auch wirklich 
 eine heile Welt? Regisseur Benjamin Best folgt dieser Frage konsequent und
  taucht ein in Subkulturen des internationalen Top-Sports. Seine Dokumenta
 tion beschäftigt sich mit rigorosem Gewinnstreben\, fragwürdigen Geschä
 ftsstrategien und haarsträubenden Manipulationen. Vor Allem aber lässt B
 est Beteiligte selbst sprechen: über ihre ganz persönlichen Erfahrungen 
 und Frustrationen mit den „Dirty Games“.VHS-Film der Woche | Deutschla
 nd 2015 - Tickets: 09561 / 239051
DTEND:20160907T000000
DTSTART:20160907T201500
LAST-MODIFIED:20160802T203000Z
LOCATION:Coburg\, Kino Utopolis
SUMMARY:Dirty Games
X-IMAGE:http://www.region-coburg.tv/images/medium/vhs-film-1276db0f.jpg
END:VEVENT
END:VCALENDAR
