BEGIN:VCALENDAR
METHOD:PUBLISH
PRODID:-//3784@www.region-coburg.tv//NONSGML iCalcreator 2.4.3//
VERSION:2.0
BEGIN:VEVENT
UID:3784-20160831201500-20160831000000@www.region-coburg.tv
DTSTAMP:20260421T024619Z
CONTACT:09561 / 239051
CREATED:20160802T202800Z
DESCRIPTION:Das Portrait der Metropole Teheran aus der Perspektive eines Ta
 xi-Fahrers: Regisseur Jafar Panahi wagt mit â€žTaxi Teheranâ€œ sein origin
 elles Film-Experiment von extremer AuthentizitÃ¤t. Er selbst Ã¼bernimmt di
 e Rolle des Chauffeurs (er arbeitet tatsÃ¤chlich als Taxifahrer)\, der auf
  seinem Weg durch die asiatische GroÃŸstadt mit unterschiedlichsten FahrgÃ
 ¤sten engagiert und meist spontan plaudert\, wodurch ihm ein hoch originel
 les\, vielschichtiges und manchmal auch bedrÃ¼ckendes Bild des zeitgenÃ¶ss
 ischen Teheran gelingt.VHS-Film der Woche | Iran 2015 - Tickets: 09561 / 2
 39051
DTEND:20160831T000000
DTSTART:20160831T201500
LAST-MODIFIED:20160802T202800Z
LOCATION:Coburg\, Kino Utopolis
SUMMARY:Taxi Teheran
X-IMAGE:http://www.region-coburg.tv/images/medium/vhs-film-1276db0f.jpg
END:VEVENT
END:VCALENDAR
