BEGIN:VCALENDAR
METHOD:PUBLISH
PRODID:-//3783@www.region-coburg.tv//NONSGML iCalcreator 2.4.3//
VERSION:2.0
BEGIN:VEVENT
UID:3783-20160824201500-20160824000000@www.region-coburg.tv
DTSTAMP:20260421T024858Z
CONTACT:09561 / 239051
CREATED:20160802T202200Z
DESCRIPTION:Biographieâ€žWer bin ich?â€œ Dieser Frage und ihrer Ã¼berrasche
 nden Antwort widmet sich Tom Hoopers Biographie-Drama â€žThe Danish Girlâ€
 œ: WÃ¤hrend der Roaring Twenties genieÃŸt das Maler-Ehepaar Einar und Gerd
 a Wegener seine Freiheit in der Kopenhagener KÃ¼nstlerszene. ÃœbermÃ¼tig d
 rÃ¤ngt Gerda ihren Ehemann dazu\, fÃ¼r sie (als Frau kostÃ¼miert) Modell z
 u stehen\, was dem KÃ¼nstlerpaar bemerkenswerte Erfolge einbringt. Doch pr
 ompt identifiziert sich Einar zunehmend mit seiner weiblichen Rolle und be
 schlieÃŸt als â€žLiliâ€œ ein neues Leben zu beginnenâ€¦VHS-Film der Woche 
 | Deutschland\, GroÃŸbritannien\, USA 2015 - Tickets: 09561 / 239051
DTEND:20160824T000000
DTSTART:20160824T201500
LAST-MODIFIED:20160802T202200Z
LOCATION:Coburg\, Kino Utopolis
SUMMARY:The Danish Girl
X-IMAGE:http://www.region-coburg.tv/images/medium/vhs-film-1276db0f.jpg
END:VEVENT
END:VCALENDAR
