BEGIN:VCALENDAR
METHOD:PUBLISH
PRODID:-//3404@www.region-coburg.tv//NONSGML iCalcreator 2.4.3//
VERSION:2.0
BEGIN:VEVENT
UID:3404-20150707201500-20150707000000@www.region-coburg.tv
DTSTAMP:20260420T080835Z
CONTACT:09561 / 239051
CREATED:20150609T194500Z
DESCRIPTION:Samba lebt und arbeitet seit zehn Jahren in Frankreich. Der aus
  dem Senegal stammende Einwanderer hat aber keine Aufenthaltserlaubnis und
  muss entsprechend vorsichtig sein. Um möglichst wenig aufzufallen und si
 ch trotzdem finanziell über Wasser zu halten\, hangelt er sich von einem 
 Nebenjob zum nächsten. Mit der Aussicht\, endlich eine unbefristete Festa
 nstellung als Koch zu bekommen\, wendet Samba sich dann doch an die Behör
 den. Der verantwortliche Beamte teilt seinen Optimismus aber keinesfalls\,
  sondern steckt den lebensfrohen Spaßvogel umgehend in Abschiebehaft. Sam
 ba begegnet dort Alice\, die nach einem Burnout ehrenamtliches Engagement 
 im sozialen Bereich leistet. Gegen den Rat der erfahrenen Kollegen\, immer
  Distanz zu wahren\, nimmt sie sich Sambas Fall zu Herzen...VHS-Film der W
 oche\, Frankreich 2014 - Tickets: 09561 / 239051
DTEND:20150707T000000
DTSTART:20150707T201500
LAST-MODIFIED:20150609T194500Z
LOCATION:Coburg\, Kino Utopolis
SUMMARY:Heute bin ich Samba
X-IMAGE:http://www.region-coburg.tv/images/medium/vhs-film-1276db0f.jpg
END:VEVENT
END:VCALENDAR
