BEGIN:VCALENDAR
METHOD:PUBLISH
PRODID:-//3403@www.region-coburg.tv//NONSGML iCalcreator 2.4.3//
VERSION:2.0
BEGIN:VEVENT
UID:3403-20150701201500-20150701000000@www.region-coburg.tv
DTSTAMP:20260420T081327Z
CONTACT:09561 / 239051
CREATED:20150609T194300Z
DESCRIPTION:Obwohl sie von vielen für verrückt gehalten wird\, bricht die
  27-jährige Robyn Davidson 1977 zu einer Expedition durch die australisch
 e Wüste auf. Auf der 2 700 Kilometer langen Strecke zum Indischen Ozean\,
  die sie zu Fuß zurücklegen will\, wird sie nur von vier Kamelen und ein
 em Hund begleitet - dabei gelegentlich von einem Fotografen besucht\, dess
 en Bilder für ein Magazin ihren Trip finanzieren. Unerschütterlich bahnt
  sich Davidson ihren Weg durch lebensfeindliches Territorium\, bis Euphori
 e und Elan von den Strapazen verdrängt werden.VHS-Film der Woche\, Austra
 lien 2013 - Tickets: 09561 / 239051
DTEND:20150701T000000
DTSTART:20150701T201500
LAST-MODIFIED:20150609T194300Z
LOCATION:Coburg\, Kino Utopolis
SUMMARY:Spuren - Tracks
X-IMAGE:http://www.region-coburg.tv/images/medium/vhs-film-1276db0f.jpg
END:VEVENT
END:VCALENDAR
