BEGIN:VCALENDAR
METHOD:PUBLISH
PRODID:-//3402@www.region-coburg.tv//NONSGML iCalcreator 2.4.3//
VERSION:2.0
BEGIN:VEVENT
UID:3402-20150623201500-20150623000000@www.region-coburg.tv
DTSTAMP:20260420T081327Z
CONTACT:09561 / 239051
CREATED:20150609T194100Z
DESCRIPTION:DokumentarfilmFrederick Wiseman\, zuletzt mit dem Goldenen Löw
 en für sein Lebenswerk ausgezeichneter Dokumentarfilmer\, liefert nicht n
 ur ein spannendes\, umfassendes Porträt der berühmten Londoner Kulturins
 titution\, ihrer Mitarbeiter\, ihrer Besucher\, und ihrer wertvollen Ausst
 ellungsstücke\, sondern schildert auch\, wie ein Museum im Allgemeinen fu
 nktioniert\, wie Kunst vermittelt wird.VHS-Film der Woche\, Frankreich/USA
  2014 - Tickets: 09561 / 239051
DTEND:20150623T000000
DTSTART:20150623T201500
LAST-MODIFIED:20150609T194100Z
LOCATION:Coburg\, Kino Utopolis
SUMMARY:National Gallery
X-IMAGE:http://www.region-coburg.tv/images/medium/vhs-film-1276db0f.jpg
END:VEVENT
END:VCALENDAR
