BEGIN:VCALENDAR
METHOD:PUBLISH
PRODID:-//3401@www.region-coburg.tv//NONSGML iCalcreator 2.4.3//
VERSION:2.0
BEGIN:VEVENT
UID:3401-20150616201500-20150616000000@www.region-coburg.tv
DTSTAMP:20260420T081106Z
CONTACT:09561 / 239051
CREATED:20150609T194000Z
DESCRIPTION:Die Linguistik-Professorin Alice führt eine glückliche Ehe\, 
 plötzlich verliert sie bei einem Vortrag vor Studenten den Faden und beim
  Jogging die Orientierung. Bald erhält sie die erschütternde Diagnose\, 
 die erst 50-jährige leidet an einer frühen Form von Alzheimer. Sie stemm
 t sich gegen den geistigen Verfall und versucht ein normales Leben zu füh
 ren. Neben ihrem überforderten Ehemann ist es ausgerechnet die Tochter Ly
 dia\, mit der sie ein schwieriges Verhältnis hat\, die ihr zur Seite steh
 t. Julianne Moore wurde mit dem Oscar® für die beste Hauptdarstellerin a
 usgezeichnet.VHS-Film der Woche\, Frankreich/USA 2014 - Tickets: 09561 / 2
 39051
DTEND:20150616T000000
DTSTART:20150616T201500
LAST-MODIFIED:20150609T194000Z
LOCATION:Coburg\, Kino Utopolis
SUMMARY:Still Alice
X-IMAGE:http://www.region-coburg.tv/images/medium/vhs-film-1276db0f.jpg
END:VEVENT
END:VCALENDAR
