BEGIN:VCALENDAR
METHOD:PUBLISH
PRODID:-//3400@www.region-coburg.tv//NONSGML iCalcreator 2.4.3//
VERSION:2.0
BEGIN:VEVENT
UID:3400-20150609201500-20150609000000@www.region-coburg.tv
DTSTAMP:20260420T080835Z
CONTACT:09561 / 239051
CREATED:20150609T193300Z
DESCRIPTION:Margaret ist eine KÃ¼nstlerin\, deren Werke hohen Wiedererkennu
 ngswert haben: darauf zu sehen sind stets Kinder mit Ã¼bergroÃŸen Augen. D
 ennoch bleiben ihr Anerkennung und Erfolg zunÃ¤chst verwehrt. Als sie alle
 rdings den charmanten Walter Keane trifft und ihn wenig spÃ¤ter sogar heir
 atet\, dauert es nicht mehr lange\, bis jeder die groÃŸÃ¤ugigen Kinder ken
 nt. Walter glaubt\, dass Margarets Kunst nur deswegen auf Desinteresse stÃ
 ¶ÃŸt\, weil sie eine Frau ist. Anstatt also Margaret als KÃ¼nstlerin vorzu
 stellen\, behauptet er einfach\, er hÃ¤tte die Bilder gemalt. Und tatsÃ¤ch
 lich lÃ¤sst der Erfolg nicht lange auf sich warten. Doch je mehr Bilder ve
 rkauft werden\, desto unwohler fÃ¼hlt sie sich angesichts der LÃ¼ge und de
 r Tatsache\, dass ihr Mann den Ruhm fÃ¼r ihre Arbeit einheimst...VHS-Film 
 der Woche\, USA 2014 - Tickets: 09561 / 239051
DTEND:20150609T000000
DTSTART:20150609T201500
LAST-MODIFIED:20150609T193300Z
LOCATION:Coburg\, Kino Utopolis
SUMMARY:Big Eyes
X-IMAGE:http://www.region-coburg.tv/images/medium/vhs-film-1276db0f.jpg
END:VEVENT
END:VCALENDAR
