BEGIN:VCALENDAR
METHOD:PUBLISH
PRODID:-//3399@www.region-coburg.tv//NONSGML iCalcreator 2.4.3//
VERSION:2.0
BEGIN:VEVENT
UID:3399-20150617200000-20150617000000@www.region-coburg.tv
DTSTAMP:20260420T081406Z
CONTACT:09561 / 80870
CREATED:20150609T192400Z
DESCRIPTION:Volker Backert liest: 'Hardrock'Gefährliche Drogen\, Sex und s
 krupellose Schläger im fränkischen Rockermilieu. Der Coburger Buchautor 
 Volker Backert stellt seinen neuesten und dritten Regional-Krimi „Hardro
 ck“ vor. Crystal Meth überschwemmt Nordbayern\, ein SOKO-Chef sucht unt
 er Drogendealern und Rockerbossen nach der spurlos verschwundenen Tochter 
 seiner Ex-Geliebten. Termin für die Buchpremiere und Autorenlesung ist Mi
 ttwoch\, der 17. Juni an einem außergewöhnlichen Ort\, die Werkstatt von
  „Motorrad-Reinhardt“ in Coburg. - Tickets: 09561 / 80870
DTEND:20150617T000000
DTSTART:20150617T200000
LAST-MODIFIED:20150609T192400Z
LOCATION:Coburg\, Werkstatt Motorrad-Reinhardt
SUMMARY:Volker Backert liest
X-IMAGE:http://www.region-coburg.tv/images/medium/hardrock-8b4d9c76.jpg
END:VEVENT
END:VCALENDAR
