BEGIN:VCALENDAR
METHOD:PUBLISH
PRODID:-//3372@www.region-coburg.tv//NONSGML iCalcreator 2.4.3//
VERSION:2.0
BEGIN:VEVENT
UID:3372-20150517000000-20150517000000@www.region-coburg.tv
DTSTAMP:20260420T062606Z
CREATED:20150511T192800Z
DESCRIPTION:Internationaler Museumstag: 'Museum. Gesellschaft. Zukunft.'Am 
 17. Mai ist wieder Internationaler Museumstag! In ganz Deutschland laden d
 ie Museen zu besonderen Aktionen ein. Unter dem Motto „Museum. Gesellsch
 aft. Zukunft“ soll gezeigt werden\, dass Museen nicht nur „Altes“ er
 forschen und bewahren\, sondern sich auch Themen der Gegenwart und Fragen 
 der  Zukunft widmen. Die Kunstsammlungen der Veste Coburg bieten dazu ein
  kleines Museumsfest und spezielles Familienprogramm an: Sonderführungen 
 für die wissenshungrigen Eltern\, mittelalterliche Spiele und Bärenführ
 ungen für die aktiven Kids.
DTEND;VALUE=DATE:20150518
DTSTART;VALUE=DATE:20150517
LAST-MODIFIED:20150511T192800Z
LOCATION:Coburger Land
SUMMARY:Internationaler Museumstag
X-IMAGE:http://www.region-coburg.tv/images/medium/museumstag-vh-c8ff2b08.jp
 g
END:VEVENT
END:VCALENDAR
