BEGIN:VCALENDAR
METHOD:PUBLISH
PRODID:-//3369@www.region-coburg.tv//NONSGML iCalcreator 2.4.3//
VERSION:2.0
BEGIN:VEVENT
UID:3369-20150516180000-20150516230000@www.region-coburg.tv
DTSTAMP:20260420T062613Z
CONTACT:09563 / 1606
CREATED:20150504T194500Z
DESCRIPTION:Regionale Museumsnacht: 'Hell und dunkel'Der Vorverkauf hat ber
 eits begonnen: am Samstag\, den 16. Mai startet unter dem Motto „Hell un
 d Dunkel“ die 12. Regionale Museumsnacht Coburg-Südthüringen. Zehn Mus
 een und kulturelle Einrichtungen\, darunter das Friedensmuseum Meeder\, da
 s Heimatmuseum Seßlach oder das Astronomie-Museum der Sternwart Sonneberg
  bieten den Besuchern wieder ein breitgefächertes Programm. Detaillierte 
 Informationen sind auf der Homepage www.museumsnacht-coburg-suedthueringen
 .de zu finden. - Tickets: 09563 / 1606
DTEND:20150516T230000
DTSTART:20150516T180000
LAST-MODIFIED:20150504T194500Z
LOCATION:Landkreise Coburg / Sonneberg / Hildburghausen
SUMMARY:Regionale Museumsnacht
X-IMAGE:http://www.region-coburg.tv/images/medium/museumsnacht-51b55c49.jpg
END:VEVENT
END:VCALENDAR
