BEGIN:VCALENDAR
METHOD:PUBLISH
PRODID:-//3367@www.region-coburg.tv//NONSGML iCalcreator 2.4.3//
VERSION:2.0
BEGIN:VEVENT
UID:3367-20150508160000-20150508000000@www.region-coburg.tv
DTSTAMP:20260420T062226Z
CONTACT:09561 / 3170
CREATED:20150504T193500Z
DESCRIPTION:Sandra da Vina liest: 'Sag es in Leuchtbuchstaben'Sandra da Vin
 a ist erst 26\, studierte Germanistin und seit 2012 auf den deutschen Poet
 ry-Slam-Bühnen unterwegs. Mit „Sag es in Leuchtbuchstaben“ erscheint 
 nun ihr erstes Buch. Die Autorin beleuchtet darin das Leben in seiner skur
 rilsten Form\, ihre Texte leuchten von innen heraus\, die Geschichten komm
 en mal wunderlich und laut\, mal nachdenklich und leise daher. Eine Lesung
  mit Sandra da Vina findet am Freitag\, den 08. Mai in der Bibliothek der 
 Hochschule Coburg statt. - Tickets: 09561 / 3170
DTEND:20150508T000000
DTSTART:20150508T160000
LAST-MODIFIED:20150504T193500Z
LOCATION:Coburg\, Hochschule Bibliothek
SUMMARY:Sandra da Vina
X-IMAGE:http://www.region-coburg.tv/images/medium/davina-vh-0a03646a.jpg
END:VEVENT
END:VCALENDAR
