BEGIN:VCALENDAR
METHOD:PUBLISH
PRODID:-//3355@www.region-coburg.tv//NONSGML iCalcreator 2.4.3//
VERSION:2.0
BEGIN:VEVENT
UID:3355-20150423200000-20150423000000@www.region-coburg.tv
DTSTAMP:20260420T062613Z
CONTACT:09561 / 898989
CREATED:20150407T181000Z
DESCRIPTION:Autoren-Gala mit Michael KöhlmeierProgramm - Tickets: 09561 / 
 898989
DTEND:20150423T000000
DTSTART:20150423T200000
LAST-MODIFIED:20150407T181000Z
LOCATION:Coburg\, St. Augustin Pfarrzentrum
SUMMARY:Michael Köhlmeier
X-IMAGE:http://www.region-coburg.tv/images/medium/co-liest-2015-a28e6ee2.jp
 g
END:VEVENT
END:VCALENDAR
