BEGIN:VCALENDAR
METHOD:PUBLISH
PRODID:-//3354@www.region-coburg.tv//NONSGML iCalcreator 2.4.3//
VERSION:2.0
BEGIN:VEVENT
UID:3354-20150422200000-20150422000000@www.region-coburg.tv
DTSTAMP:20260420T061754Z
CONTACT:09561 / 898989
CREATED:20150407T180600Z
DESCRIPTION:Literatur in den Häusern unserer StadtEinlass 19 Uhr\, Beginn 
 20 UhrVorverkauf nur über die Kasse des LandestheatersProgramm - Tickets:
  09561 / 898989
DTEND:20150422T000000
DTSTART:20150422T200000
LAST-MODIFIED:20150407T180600Z
LOCATION:Coburg\, diverse Veranstaltungsorte
SUMMARY:Literatur in den Häusern unserer Stadt
X-IMAGE:http://www.region-coburg.tv/images/medium/co-liest-2015-a28e6ee2.jp
 g
END:VEVENT
END:VCALENDAR
