BEGIN:VCALENDAR
METHOD:PUBLISH
PRODID:-//3353@www.region-coburg.tv//NONSGML iCalcreator 2.4.3//
VERSION:2.0
BEGIN:VEVENT
UID:3353-20150421200000-20150421000000@www.region-coburg.tv
DTSTAMP:20260420T062659Z
CONTACT:Buchhandlung Riemann
CREATED:20150407T180200Z
DESCRIPTION:Sachbuchabend mit Gudrun Schury und Rolf-Bernhard Essig„Schli
 mme Finger. Eine Kriminalgeschichte der Künste“Programm - Tickets: Buch
 handlung Riemann
DTEND:20150421T000000
DTSTART:20150421T200000
LAST-MODIFIED:20150407T180200Z
LOCATION:Coburg\, Schwurgerichtssaal
SUMMARY:Sachbuch-Abend
X-IMAGE:http://www.region-coburg.tv/images/medium/co-liest-2015-a28e6ee2.jp
 g
END:VEVENT
END:VCALENDAR
