BEGIN:VCALENDAR
METHOD:PUBLISH
PRODID:-//3352@www.region-coburg.tv//NONSGML iCalcreator 2.4.3//
VERSION:2.0
BEGIN:VEVENT
UID:3352-20150420200000-20150420000000@www.region-coburg.tv
DTSTAMP:20260420T062606Z
CONTACT:Buchhandlung Riemann
CREATED:20150407T175700Z
DESCRIPTION:12. Literaturtage: Jan Weiler'Das Pubertier und andere Geschich
 ten'Programm - Tickets: Buchhandlung Riemann
DTEND:20150420T000000
DTSTART:20150420T200000
LAST-MODIFIED:20150407T175700Z
LOCATION:Coburg\, Haus Contakt
SUMMARY:Jan Weiler
X-IMAGE:http://www.region-coburg.tv/images/medium/co-liest-2015-a28e6ee2.jp
 g
END:VEVENT
END:VCALENDAR
