BEGIN:VCALENDAR
METHOD:PUBLISH
PRODID:-//3351@www.region-coburg.tv//NONSGML iCalcreator 2.4.3//
VERSION:2.0
BEGIN:VEVENT
UID:3351-20150418190000-20150418000000@www.region-coburg.tv
DTSTAMP:20260420T043524Z
CONTACT:Buchhandlung Riemann
CREATED:20150407T174600Z
DESCRIPTION:12. Literaturtage: Roman-MarathonSabine Kray / Christoph Peters
  / / Kathrin Groß-StrifflerIm Anschluss Gesprächsrunde mit den drei Auto
 renProgramm - Tickets: Buchhandlung Riemann
DTEND:20150418T000000
DTSTART:20150418T190000
LAST-MODIFIED:20150407T174600Z
LOCATION:Coburg\, Theater in der Reithalle
SUMMARY:Roman-Marathon
X-IMAGE:http://www.region-coburg.tv/images/medium/co-liest-2015-a28e6ee2.jp
 g
END:VEVENT
END:VCALENDAR
