BEGIN:VCALENDAR
METHOD:PUBLISH
PRODID:-//3350@www.region-coburg.tv//NONSGML iCalcreator 2.4.3//
VERSION:2.0
BEGIN:VEVENT
UID:3350-20150415190000-20150415000000@www.region-coburg.tv
DTSTAMP:20260420T043708Z
CONTACT:09561 / 891420\, Eintritt 6 €
CREATED:20150407T172800Z
DESCRIPTION:Krimivorstellung in Coburg: Friederike Schmöe 'Zuträger'Sie i
 st Krimiautorin und Dozentin für kreatives Schreiben. Friederike Schmöe 
 stellt am Mittwoch\, den 15. April ihren neuesten Krimi mit dem Titel „Z
 uträger“ in der Stadtbücherei Coburg vor. Ein neuer\, spannender Fall 
 für die Bamberger Ermittlerin Katinka Palfy. - Tickets: 09561 / 891420\, 
 Eintritt 6 €
DTEND:20150415T000000
DTSTART:20150415T190000
LAST-MODIFIED:20150407T172800Z
LOCATION:Coburg\, Stadtbücherei
SUMMARY:Friederike Schmöe
X-IMAGE:http://www.region-coburg.tv/images/medium/lesung-schmoee-ece181e7.j
 pg
END:VEVENT
END:VCALENDAR
