BEGIN:VCALENDAR
METHOD:PUBLISH
PRODID:-//3329@www.region-coburg.tv//NONSGML iCalcreator 2.4.3//
VERSION:2.0
BEGIN:VEVENT
UID:3329-20150324190000-20150324000000@www.region-coburg.tv
DTSTAMP:20260420T043454Z
CONTACT:09561 / 891420
CREATED:20150315T155100Z
DESCRIPTION:Heidi Fischer liest: 'Wer später stirbt\, ist länger alt”Di
 e in Coburg geborene Autorin Heidi Fischer schreibt Gedichte\, Romane und 
 Kurzgeschichten. Nach ihrem ersten Roman 'Laufmaschen im Strickstrumpf' ko
 mmt nun ein zweiter Band heraus. 'Wer später stirbt\, ist länger alt' is
 t eine Sammlung aus Kurzgeschichten vom Altern und Altsein\, aber auch vom
  Potenzial des Lebendig-Seins im Alter. Heidi Fischer stellt ihr Buch am D
 ienstag\, den 24. März in der Stadtbücherei Coburg vor. - Tickets: 09561
  / 891420
DTEND:20150324T000000
DTSTART:20150324T190000
LAST-MODIFIED:20150315T155100Z
LOCATION:Coburg\, Stadtbücherei
SUMMARY:Wer später stirbt\, ist länger alt
X-IMAGE:http://www.region-coburg.tv/images/medium/heidi-fischer-8d6f5841.jp
 g
END:VEVENT
END:VCALENDAR
