BEGIN:VCALENDAR
METHOD:PUBLISH
PRODID:-//3298@www.region-coburg.tv//NONSGML iCalcreator 2.4.3//
VERSION:2.0
BEGIN:VEVENT
UID:3298-20150428201500-20150428000000@www.region-coburg.tv
DTSTAMP:20260420T062525Z
CONTACT:09561 / 239051
CREATED:20150210T201400Z
DESCRIPTION:Buchhändler Murray muss seinen alteingesessenen Traditionslade
 n aufgeben\, weil die Kundschaft ausbleibt. Eine neue Einkommensquelle ist
  gefragt. Da erzählt ihm seine Dermatologin\, dass sie von einer Ménage-
 à-trois träumt - die neue Geschäftsidee ist geboren. Murray\, Künstler
 name 'Dan Bongo'\, und sein Freund\, Blumenhändler Fioravante alias 'Virg
 il Howard'\, steigen ins 'Rent-a-Man'-Business ein - mit 'Bongo' als Zuhä
 lter und 'Virgil' als 'Mann für gewisse Stunden'. Zu Problemen kommt es\,
  als der 'Mann für gewisse Stunden' sich in die Witwe eines chassidischen
  Juden verliebt.VHS-Film der Woche\, USA 2014 - Tickets: 09561 / 239051
DTEND:20150428T000000
DTSTART:20150428T201500
LAST-MODIFIED:20150210T201400Z
LOCATION:Coburg\, Kino Utopolis
SUMMARY:Plötzlich Gigolo
X-IMAGE:http://www.region-coburg.tv/images/medium/vhs-film-1276db0f.jpg
END:VEVENT
END:VCALENDAR
