BEGIN:VCALENDAR
METHOD:PUBLISH
PRODID:-//3297@www.region-coburg.tv//NONSGML iCalcreator 2.4.3//
VERSION:2.0
BEGIN:VEVENT
UID:3297-20150422201500-20150422000000@www.region-coburg.tv
DTSTAMP:20260420T061658Z
CONTACT:09561 / 239051
CREATED:20150210T201300Z
DESCRIPTION:In der Familie Weston kommt es wie so oft zu Streitigkeiten\, n
 achdem das alkoholabhängige Familienoberhaupt Beverly Weston spurlos vers
 chwunden ist. Anlässlich des Schicksalsschlages kommen die Familienmitgli
 eder nun eher widerwillig zusammen. Die Weston-Töchter haben sehr untersc
 hiedliche Wege eingeschlagen. Doch aufgrund der familiären Krise treffen 
 die Familienmitglieder inklusive ihrer Partner und Kinder im Elternhaus in
  Oklahoma wieder aufeinander – und auf die verbitterte Mutter\, die ohne
  ihre tägliche Ration Tabletten gar nicht mehr auskommen kann. Für jeden
  hat diese ein paar (zu) ehrliche Worte übrig\, doch das Fass läuft bald
  über und so kommen schließlich einige schmutzige Geheimnisse ans Licht.
 VHS-Film der Woche\, USA 2013 - Tickets: 09561 / 239051
DTEND:20150422T000000
DTSTART:20150422T201500
LAST-MODIFIED:20150210T201300Z
LOCATION:Coburg\, Kino Utopolis
SUMMARY:Im August im Osage County
X-IMAGE:http://www.region-coburg.tv/images/medium/vhs-film-1276db0f.jpg
END:VEVENT
END:VCALENDAR
