BEGIN:VCALENDAR
METHOD:PUBLISH
PRODID:-//3296@www.region-coburg.tv//NONSGML iCalcreator 2.4.3//
VERSION:2.0
BEGIN:VEVENT
UID:3296-20150415201500-20150415000000@www.region-coburg.tv
DTSTAMP:20260420T043842Z
CONTACT:09561 / 239051
CREATED:20150210T201100Z
DESCRIPTION:DokumentarfilmFabienne\, Laura\, Lisa und Stephanie feiern scho
 n bald ihren 18. Geburtstag. Vor dem Gesetz sind sie dann erwachsen. Doch 
 eigentlich sind sie das schon längst. Denn alle vier sind bereits Mutter.
  In ihrem Dokumentarfilm VIERZEHN - ERWACHSEN IN 9 MONATEN begleitete die 
 Filmemacherin Cornelia Grünberg die Mädchen\, die als Teenies Kinder bek
 amen. Nun\, vier Jahre später\, besucht sie diese erneut und fragt sie\, 
 wie es ihnen nun geht\, auf der letzten Schwelle zum offiziellen Erwachsen
 sein. Was erwarten sie sich vom Leben? Was für Ziele haben sie? Und wie i
 st die Rolle als Mutter mit der Freiheit und Unbeschwertheit einer jungen 
 Frau zu vereinbaren?VHS-Film der Woche\, Deutschland 2014 - Tickets: 09561
  / 239051
DTEND:20150415T000000
DTSTART:20150415T201500
LAST-MODIFIED:20150210T201100Z
LOCATION:Coburg\, Kino Utopolis
SUMMARY:Achtzehn - Wagnis Leben
X-IMAGE:http://www.region-coburg.tv/images/medium/vhs-film-1276db0f.jpg
END:VEVENT
END:VCALENDAR
