BEGIN:VCALENDAR
METHOD:PUBLISH
PRODID:-//3295@www.region-coburg.tv//NONSGML iCalcreator 2.4.3//
VERSION:2.0
BEGIN:VEVENT
UID:3295-20150408201500-20150408000000@www.region-coburg.tv
DTSTAMP:20260420T043455Z
CONTACT:09561 / 239051
CREATED:20150210T200900Z
DESCRIPTION:Der Musikmanager Dan ist seit Jahren erfolglos und wird deshalb
  gefeuert. Völlig verzweifelt beschließt er\, sich das Leben zu nehmen. 
 Doch dann begegnet er zufällig der jungen Musikerin Greta und ist sofort 
 begeistert von ihren Songs. Er ist sich sicher\, dass der Gitarristin eine
  große Karriere bevorsteht und will sie deshalb managen. Greta ist anfang
 s nicht begeistert von dem Gedanken. Eigentlich wollte sie New York verlas
 sen\, weil ihr Freund sich aus dem Staub gemacht hat. Dan kann sie aber ü
 berzeugen und so beginnt für die Zwei eine besondere musikalische Reise.V
 HS-Film der Woche\, USA 2014 - Tickets: 09561 / 239051
DTEND:20150408T000000
DTSTART:20150408T201500
LAST-MODIFIED:20150210T200900Z
LOCATION:Coburg\, Kino Utopolis
SUMMARY:Can a Song save your Life?
X-IMAGE:http://www.region-coburg.tv/images/medium/vhs-film-1276db0f.jpg
END:VEVENT
END:VCALENDAR
