BEGIN:VCALENDAR
METHOD:PUBLISH
PRODID:-//3294@www.region-coburg.tv//NONSGML iCalcreator 2.4.3//
VERSION:2.0
BEGIN:VEVENT
UID:3294-20150401201500-20150401000000@www.region-coburg.tv
DTSTAMP:20260420T043454Z
CONTACT:09561 / 239051
CREATED:20150210T200600Z
DESCRIPTION:In der Zukunft werden wir alle von omnipräsenten Kameras über
 wacht. Sie sind die Augen und Ohren des schattenhaften und sagenumwobenen 
 Management\, der einer Organisation namens 'Mancom' vorsteht. Qohen Leth i
 st ein Computer-Genie\, das Angst vor menschlichem Kontakt hat und zurück
 gezogen in der ausgebrannten Ruine einer alten Kapelle lebt\, stets auf ei
 nen Anruf wartend\, der ihm den Sinn seiner Existenz verraten soll. Währe
 nddessen versucht er im Auftrag von Management\, das 'Zero Theorem' zu lö
 sen und damit die Sinnlosigkeit allen Seins zu beweisen\; eine Aufgabe\, a
 n der er stets aufs Neue scheitert.VHS-Film der Woche\, Großbritannien / 
 Rumänien 2013 - Tickets: 09561 / 239051
DTEND:20150401T000000
DTSTART:20150401T201500
LAST-MODIFIED:20150210T200600Z
LOCATION:Coburg\, Kino Utopolis
SUMMARY:The Zero Theorem
X-IMAGE:http://www.region-coburg.tv/images/medium/vhs-film-1276db0f.jpg
END:VEVENT
END:VCALENDAR
