BEGIN:VCALENDAR
METHOD:PUBLISH
PRODID:-//3293@www.region-coburg.tv//NONSGML iCalcreator 2.4.3//
VERSION:2.0
BEGIN:VEVENT
UID:3293-20150324201500-20150324000000@www.region-coburg.tv
DTSTAMP:20260420T043617Z
CONTACT:09561 / 239051
CREATED:20150210T200500Z
DESCRIPTION:Nina ist eine ehrgeizige Ballett-Tänzerin bei der New York Bal
 lett Company\, die ihr ganzes Leben auf ihre Leidenschaft ausgerichtet hat
 . Wenig überraschend ist es für sie\, als sie bei „Schwanensee“ von 
 Regisseur Thomas Leroy für die Hauptrolle ausgewählt wird. Doch die Freu
 de hält nicht lange an: Schnell bekommt sie Konkurrenz von der jungen Lil
 y\, die zwar nicht Ninas perfekte Technik besitzt\, aber einen leidenschaf
 tlicheren Tanzstil. Nina versucht vergeblich\, diesen mit umso intensivere
 m Training zu erarbeiten. Lily fasziniert und ängstigt sie im gleichen Ma
 ße und Nina driftet immer weiter ab in eine Welt\, in der sie nicht mehr 
 weiß\, wer sie wirklich ist.VHS-Film der Woche\, USA 2010 - Tickets: 0956
 1 / 239051
DTEND:20150324T000000
DTSTART:20150324T201500
LAST-MODIFIED:20150210T200500Z
LOCATION:Coburg\, Kino Utopolis
SUMMARY:Black Swan
X-IMAGE:http://www.region-coburg.tv/images/medium/vhs-film-1276db0f.jpg
END:VEVENT
END:VCALENDAR
